BEGIN:VCALENDAR
VERSION:2.0
PRODID:-//Rabten Jampa Ling - ECPv6.15.18//NONSGML v1.0//EN
CALSCALE:GREGORIAN
METHOD:PUBLISH
X-WR-CALNAME:Rabten Jampa Ling
X-ORIGINAL-URL:https://www.rabten.ro
X-WR-CALDESC:Evenimente pentru Rabten Jampa Ling
REFRESH-INTERVAL;VALUE=DURATION:PT1H
X-Robots-Tag:noindex
X-PUBLISHED-TTL:PT1H
BEGIN:VTIMEZONE
TZID:UTC
BEGIN:STANDARD
TZOFFSETFROM:+0000
TZOFFSETTO:+0000
TZNAME:UTC
DTSTART:20220101T000000
END:STANDARD
END:VTIMEZONE
BEGIN:VEVENT
DTSTART;VALUE=DATE:20231125
DTEND;VALUE=DATE:20231126
DTSTAMP:20260425T150045
CREATED:20250319T165352Z
LAST-MODIFIED:20250831T101957Z
UID:80-1700870400-1700956799@www.rabten.ro
SUMMARY:Transilvania culturala\, invitat Markus Getzner
DESCRIPTION:
URL:https://www.rabten.ro/eveniment/transilvania-culturala-invitat-markus-getzner/
LOCATION:Ilfov
CATEGORIES:Interviu,Ven. Jangchub Phuntsok
ATTACH;FMTTYPE=image/jpeg:https://www.rabten.ro/wp-content/uploads/2025/03/rzDgyWke7zM-HD.jpg
END:VEVENT
END:VCALENDAR