BEGIN:VCALENDAR
VERSION:2.0
PRODID:-//Rabten Jampa Ling - ECPv6.15.18//NONSGML v1.0//EN
CALSCALE:GREGORIAN
METHOD:PUBLISH
X-WR-CALNAME:Rabten Jampa Ling
X-ORIGINAL-URL:https://www.rabten.ro
X-WR-CALDESC:Evenimente pentru Rabten Jampa Ling
REFRESH-INTERVAL;VALUE=DURATION:PT1H
X-Robots-Tag:noindex
X-PUBLISHED-TTL:PT1H
BEGIN:VTIMEZONE
TZID:UTC
BEGIN:STANDARD
TZOFFSETFROM:+0000
TZOFFSETTO:+0000
TZNAME:UTC
DTSTART:20240101T000000
END:STANDARD
END:VTIMEZONE
BEGIN:VEVENT
DTSTART;TZID=UTC:20250517T093000
DTEND;TZID=UTC:20250518T170000
DTSTAMP:20260424T063424
CREATED:20250413T132856Z
LAST-MODIFIED:20250831T102050Z
UID:6661-1747474200-1747587600@www.rabten.ro
SUMMARY:Cele treizeci și șapte de practici ale unui bodhisattva
DESCRIPTION:Venerabilul călugăr Jangchub Phuntsok va veni din nou în București pentru a preda în continuare\, învățături buddhiste tibetane\, pe baza textului: Cele treizeci și șapte de practici ale unui bodhisattva. \nVenerabilul Jangchub Phuntsok va împărtăși cu noi înțelegerea și experiența învățăturilor izvorâte din acest text foarte cunoscut\, pe care el îl predă în multe Centre Rabten din diferite țări\, inclusiv în România începând cu anul 2011.\nDespre textul tibetan\n\n\n\n\n\n\n\n\n Lucrarea intitulată Cele treizeci și șapte de practici ale unui bodhisattva (rGyal sras lag len so bdun ma) este compus de maestrul tibetan Gyelse Thokme Sangpo\, care a trăit în secolul al XIV-lea\, fiind cunoscut ca un maestru foarte erudit și în aceleași timp și un mare sihastru ce a petrecut ani de zile meditând în solitudine.\n\n\nTextul expune sub forma unor îndemnuri\, în număr de treizeci și șapte\, calea graduală către Trezie (lam rim) împreună cu metode specifice de cultivare a minții (lo jong)\, acestea reprezentând instrucțiuni speciale pentru diminuarea și înlăturarea egocentrismului\, a prețuirii de sine. Aceste învățături provin din vechea tradiție buddhistă tibetană Kadam\, întemeiată de maestrul bengalez Atiśa Dīpaṃkāraśrījñāna și reprezintă chintesență învățăturilor tuturor tradițiilor buddhismului tibetan. \n\nÎnscriere Pentru a participa la evenimentul din weekend\, fie ambele zile sau doar parțial\, vă rugăm să vă înscrieți completând formularul accesibil mai jos. Costuri Donația pentru o zi este 125 RON iar pentru întregul weekend 250RON. Donațiile sunt menite strict să acopere cheltuielile organizatorice si logistice. Pentru studenți\, persoane fără loc de muncă\, sau cei cei care nu își permit financiar dar doresc să participe\, îi rugăm să menționeze în formularul de înscriere acest aspect și puteți participa în calitate de voluntar. Oricine este binevenit. ÎNSCRIERE LA EVENIMENT
URL:https://www.rabten.ro/eveniment/cele-treizeci-si-sapte-de-practici-ale-unui-bodhisattva/
LOCATION:Centrul Anahata\, Strada Fabrica de Chibrituri nr. 16\, Bucureşti\, Romania
CATEGORIES:Eveniment,Ven. Jangchub Phuntsok
ATTACH;FMTTYPE=image/jpeg:https://www.rabten.ro/wp-content/uploads/2025/04/afis-markus-16-18mai25-web.jpg
END:VEVENT
END:VCALENDAR