BEGIN:VCALENDAR
VERSION:2.0
PRODID:-//Rabten Jampa Ling - ECPv6.15.18//NONSGML v1.0//EN
CALSCALE:GREGORIAN
METHOD:PUBLISH
X-WR-CALNAME:Rabten Jampa Ling
X-ORIGINAL-URL:https://www.rabten.ro
X-WR-CALDESC:Evenimente pentru Rabten Jampa Ling
REFRESH-INTERVAL;VALUE=DURATION:PT1H
X-Robots-Tag:noindex
X-PUBLISHED-TTL:PT1H
BEGIN:VTIMEZONE
TZID:UTC
BEGIN:STANDARD
TZOFFSETFROM:+0000
TZOFFSETTO:+0000
TZNAME:UTC
DTSTART:20240101T000000
END:STANDARD
END:VTIMEZONE
BEGIN:VEVENT
DTSTART;TZID=UTC:20250926T183000
DTEND;TZID=UTC:20250926T203000
DTSTAMP:20260423T224621
CREATED:20250909T154103Z
LAST-MODIFIED:20250911T131547Z
UID:244065-1758911400-1758918600@www.rabten.ro
SUMMARY:Sănătatea mentală din perspectiva tradiției buddhiste
DESCRIPTION:Despre eveniment\nClinica Color Mind\, în colaborare cu Rabten Jampa Ling România și Editura Herald\, organizează un eveniment special dedicat celor interesați de sănătatea mintală și echilibrul interior: „Sănătatea mentală din perspectiva tradiției buddhiste – un dialog cu venerabilul Gonsar Rinpoce”. \nEvenimentul va avea loc vineri\, 26 septembrie 2025\, la Biblioteca Națională a României (Sala Eliade\, UU-22)\, începând cu ora 18:30\, și va fi moderat de Dr. Ana Maria Iordache\, medic psihiatru și psihoterapeut.\n\n\nTematică\nVenerabilul Gonsar Rinpoce va susține o prelegere despre modul în care tradiția buddhistă abordează funcționarea minții și conștiinței. Într-o lume tot mai preocupată de sănătatea mintală\, această perspectivă oferă o claritate aparte asupra mecanismelor interioare ale suferinței\, precum și idei valoroase pentru a cultiva echilibrul interior. \nEvenimentul se adresează în special profesioniștilor din domeniul sănătății mintale (psihologi\, psihoterapeuți\, psihiatri\, coachi)\, dar și tuturor celor interesați de introspecție\, dezvoltare personală\, spiritualitate aplicată și relația dintre știință și tradiție. \nDupă prelegere\, va avea loc o sesiune de întrebări și răspunsuri\, care le va permite participanților să intre în dialog direct cu maestrul. \nÎnvățăturile vor fi în limba engleză\, cu interpretare în limba română. \n\n\nTransmisie live\nConferința va fi transmisă live și va fi accesibilă la adresa: \nhttp://twitch.tv/rabtenjampaling\n\n\nÎnscriere\nParticiparea este gratuită\, dar locurile sunt limitate. Pentru a rezerva un loc\, vă rugăm să completați formularul de înscriere iar dacă aveți întrebări\, vă rugăm să ne scrieți la info@rabten.ro \nFormular de înscriere
URL:https://www.rabten.ro/eveniment/sanatatea-mentala-din-perspectiva-traditiei-buddhiste/
LOCATION:Ilfov
CATEGORIES:Conferinta,Ven. Gonsar Rinpoce
ATTACH;FMTTYPE=image/jpeg:https://www.rabten.ro/wp-content/uploads/2025/09/544819010_1334930538637748_8783140689137131167_n.jpg
END:VEVENT
END:VCALENDAR