BEGIN:VCALENDAR
VERSION:2.0
PRODID:-//Rabten Jampa Ling - ECPv6.15.18//NONSGML v1.0//EN
CALSCALE:GREGORIAN
METHOD:PUBLISH
X-WR-CALNAME:Rabten Jampa Ling
X-ORIGINAL-URL:https://www.rabten.ro/en
X-WR-CALDESC:Events for Rabten Jampa Ling
REFRESH-INTERVAL;VALUE=DURATION:PT1H
X-Robots-Tag:noindex
X-PUBLISHED-TTL:PT1H
BEGIN:VTIMEZONE
TZID:UTC
BEGIN:STANDARD
TZOFFSETFROM:+0000
TZOFFSETTO:+0000
TZNAME:UTC
DTSTART:20250101T000000
END:STANDARD
END:VTIMEZONE
BEGIN:VEVENT
DTSTART;TZID=UTC:20260222T100000
DTEND;TZID=UTC:20260222T170000
DTSTAMP:20260424T001239
CREATED:20260131T140739Z
LAST-MODIFIED:20260203T133108Z
UID:244715-1771754400-1771779600@www.rabten.ro
SUMMARY:Întâlnire cu Venerabilul Jampa Lungtok la Buftea
DESCRIPTION:Dragi prieteni\, \nÎn weekendul 21-22 Februarie\, Venerabilul Jampa Lungtok va veni pentru o scurtă vizită la Buftea unde va fi viitorul centrul Rabten Jampa Ling. \nDuminică (pe 22 februarie) vom avea o întâlnire acolo\, la fața locului\, într-un grup mai restrâns și într-o atmosferă mai informală în care Venerabilul Jampa Lungtok ne va povesti și împărtăși din experiențele sale trăite alături de marii maeștri tibetani precum Venerabilul Gheșe Rabten Rinpoce și Venerabilul Gonsar Rinpoce. \nVom avea de asemenea prilejul să-i adresăm întrebări și să-i cerem sfaturi. \nProgram:\n10:00 – 12:00\n12:00 – 14:30 (pauză de prânz)\n14:30 – 17:00
URL:https://www.rabten.ro/en/eveniment/intalnire-cu-venerabilul-jampa-lungtok-la-buftea/
LOCATION:Centrul de Studii Dharma – Rabten Jampa Ling\, Aleea Cu Brazi 1\, Buftea\, Ilfov\, 070000\, Romania
END:VEVENT
BEGIN:VEVENT
DTSTART;TZID=UTC:20260704T090000
DTEND;TZID=UTC:20260705T180000
DTSTAMP:20260424T001239
CREATED:20260216T082434Z
LAST-MODIFIED:20260417T094236Z
UID:244802-1783155600-1783274400@www.rabten.ro
SUMMARY:Inaugurarea Centrului Rabten Jampa Ling din Buftea
DESCRIPTION:Vă invităm cu drag pe 4 și 5 iulie 2026\, la inaugurarea primului centru de studii tibetane Rabten din România\, deschis sub îndrumarea Venerabilului Gonsar Rinpoce\, după 16 ani de activități & evenimente derulate în România. \nPe parcursul celor două zile vor avea loc învățături oferite de Venerabilul Gonsar Rinpoce\, precum și ceremonia oficială de deschidere a noului centru\, condusă de Venerabilii Yangsi Rinpoce si Gonsar Rinpoce. \nProgram\nSâmbătă\n09:00 –  Puja & Inaugurare\n12:00 – 14:30 Pauza de prânz\n14:30 – Inaugurare\n18:00 – Cina \nDuminică\n09:00 – Învățături\, Meditație\n12:00 – 14:30 Pauza de prânz\n14:30 – Învățături\, Meditație\n18:00 – Cina \nInformații practice\n\nMesele (prânz și cină): aproximativ 60-70 lei / masă\nParticipare: Intrarea gratuită sâmbătă. Participarea la cursul de duminică 180 lei.\n\nPentru înscriere\, vă rugăm să completați formularul alăturat. \nPS: În cazul în care veniți însoțiți\, vă rugăm să faceți câte o înscriere separată pentru fiecare participant. \n  \n 
URL:https://www.rabten.ro/en/eveniment/inaugurarea-centrului-din-buftea/
LOCATION:Centrul de Studii Dharma – Rabten Jampa Ling\, Aleea Cu Brazi 1\, Buftea\, Ilfov\, 070000\, Romania
CATEGORIES:Eveniment,Ven. Gonsar Rinpoce
END:VEVENT
END:VCALENDAR